Workbook
Name DependentCount: 'Tax Form'!#REF!
Name EarnedIncomeWSB: '[1]Line 17a (EIC)'!$O$378
Name EIC_Step4_Line5_Yes: '[1]Line 17a (EIC)'!$B$163
Name EICNumQualChild: '[1]Line 17a (EIC)'!$B$105
Name F8960_Applicable: '[1]8960'!$Q$2
Name File_Head: '[1]1040'!$T$5
Name File_Marr_Joint: '[1]1040'!$H$5
Name File_Marr_Sep: '[1]1040'!$N$5
Name File_Qual_Widow: '[1]1040'!$Z$5
Name File_Single: '[1]1040'!$D$5
Name IRA_Gross: '[1]1099-R'!$D$54
Name IRA_Pension_Taxable: '[1]1040'!$AB$38
Name IRAs_Pension_Annuit: '[1]1040'!$N$38
Name ItemizedDeduct: '[1]1040'!$AX$34
Name LivedApartAnswered: '[1]1040'!$AO$5
Name Name_1st_Yours: '[1]1040'!$B$7
Name NoColor: '[1]1040'!$AO$2
Name NumFileStatusBoxes: 'Tax Form'!#REF!
Name Over_65_or_Blind: '[1]1040'!$AT$14
Name PA_Gross: '[1]1099-R'!$E$54
Name Qual_Child_Count: 'Tax Form'!#REF!
Name SpouseBirthDay: 'Tax Form'!#REF!
Name SpouseBirthMonth: 'Tax Form'!#REF!
Name SpouseBirthYear: 'Tax Form'!#REF!
Name Tax_SS_Benefits: '[1]Line 5 (SS Bene)'!$J$53
Name TaxYear: 'Tax Form'!$Q$1

Sheet Tax Form
B1: Form | C1: 1040 | E1: Department of the Treasury––Internal Revenue Service (99) | Q1: 2018
E2: U.S. Individual Income Tax Return | U2: OMB No. 1545-0074 | Y2: IRS Use Only—Do not write or staple in this space.
C3: Filing status: | D3: =IF(('Data Sheet'!B6)=(E3),"X"," ") | E3: S | H3: =IF(('Data Sheet'!B6)=(I3),"X"," ") | I3: MFJ | N3: =IF((O3)=('Data Sheet'!B6),"X"," ") | O3: MFS | T3: =IF((U3)=('Data Sheet'!B6),"X"," ") | U3: HH | Z3: =IF((AA3)=('Data Sheet'!B6),"X"," ") -> X | AA3: QW
C4: Your first name and initial | L4: Last name | Y4: Your social security number
B5: =CONCATENATE('Data Sheet'!B2," ",LEFT('Data Sheet'!B3),".") -> Angela W. | L5: ='Data Sheet'!B4 -> Brown | Y5: ='Data Sheet'!B5 -> 613278193
D6: Your standard deduction: | G6: Someone can claim you as a dependent | O6: You were born before January 2, 1954 | AA6: You are blind
C7: Spouse or qualifying person’s first name and initial (see inst.) | L7: Last name | Y7: Spouse's social security number
D9: Spouse standard deduction: | G9: Someone can claim your spouse as a dependent | P9: Your spouse was born before January 2, 1954 | Z9: Full-year health care coverage or exempt (see inst.)
C10: Spouse is blind | G10: Your spouse itemizes on a separate return or you are a dual-status alien.
C11: Home address (number and street). If you have a P.O. box, see instructions. | V11: Apt. no. | Y11: Presidential Election Campaign
Y12: (see inst.) | AC12: You | AF12: Spouse
C13: City, town or post office, state, and ZIP code. If you have a foreign address, attach Schedule 6. | Y13: If more than four dependents,
Y14: see inst. and | AD14: here
C15: Dependents (see instructions) : | L15: (2) Social security number | R15: (3) Relationship to you | X15: (4) if qualifies for (see inst.):
C16: (1) First name | G16: Last name | X16: Child Tax Credit | AB16: Credit for other dependents
AH17: 0
AH18: 0
AH19: 0
AH20: 0
C21: Sign | D21: Under penalties of perjury, I declare that I have examined this return and accompanying schedules and statements, and to the best of my knowledge and belief, they are true,
C22: Here | D22: correct, and complete. Declaration of preparer (other than taxpayer) is based on all information of which preparer has any knowledge.
C23: Joint return? | D23: Your signature | O23: Date | S23: Your occupation | Z23: If the IRS sent you an Identity Prot. PIN,
C24: See instructions. | Z24: enter here
C25: Keep a copy | D25: Spouse’s signature. If a joint return, both must sign. | O25: Date | S25: Spouse's occupation | Z25: If the IRS sent you an Identity Prot. PIN,
C26: for your records. | Z26: enter here
C27: Paid Preparers Use Onlly | D27: Print/Type preparer’s name | K27: Preparer’s signature | U27: PTIN | Y27: Firm's EIN | AD27: Check if:
AE28: 3rd Party Designee
D29: Firm’s name | U29: Phone no. | AE29: Self-employed
D30: Firm’s address
B31: For Disclosure, Privacy Act, and Paperwork Reduction Act Notice, see separate instructions. | X31: Cat. No. 11320B | AE31: Form 1040 | AG31: (2018)
B32: Form 1040 (2018) | AG32: Page 2
B33: Attach Form(s) W-2. Also attach Form(s) W-2G and 1099-R if tax was withheld. | D33: 1 | F33: Wages, salaries, tips, etc. Attach Form(s) W-2 | S33: . . . . . . . . . | T33: =IF('[1]Earned Inc Calc'!J23>0,"PRI "&TEXT('[1]Earned Inc Calc'!J23,"$0,000"),IF('[1]Earned Inc Calc'!J33>0,"DFC "&TEXT('[1]Earned Inc Calc'!J33,"$0,000"),IF(OR('[1]2441'!O100="",'[1]2441'!O100=0),"","DCB"))) | AA33: 1 | AB33: =SUM('Data Sheet'!B7:B10) -> 84000
D34: 2 | E34: a | F34: Tax-exempt interest | L34: . . . . . . | M34: 2a | T34: b Taxable interest | Z34: . . . . | AA34: 2b | AB34: 0
D35: 3 | E35: a | F35: Qualified dividends | L35: . . . . . . | M35: 3a | T35: b Ordinary dividends | Z35: . . . | AA35: 3b | AB35: 0
D36: 4 | E36: a | F36: IRAs, pensions, and annuities | L36: . . . | M36: 4a | T36: b Taxable amount | Z36: =IF(AH36<>"","Rollover",". . . . ") -> . . . . | AA36: 4b | AB36: 0
B37: Standard | D37: 5 | E37: a | F37: Social security benefits | L37: . . . . . . | M37: 5a | T37: b Taxable amount | Z37: . . . . | AA37: 5b | AB37: 0
B38: Deduction for -- | D38: 6 | F38: Total income. Add lines 1 through 5. Add any amount from Schedule 1, line 22 | Z38: . . . | AA38: 6 | AB38: =SUM(AB33:AF37) -> 84000
B39: • | C39: Single or married | D39: 7 | F39: Adjusted gross income. If you have no adjustments to income, enter the amount from line 6; otherwise,
C40: filing separately, | F40: subtract Schedule 1, line 36, from line 6 | Z40: . . . . . . . . . . . . . . . . . . . . . . . | AA40: 7 | AB40: =AB38 -> 84000
C41: 12000 | D41: 8 | F41: Standard deduction or itemized deductions (from Schedule A) | Z41: . . . . . . . . . . . . . . | AA41: 8 | AB41: ='Data Sheet'!B14 -> 25654
...

Sheet Data Sheet
A1: User Data Entry Options | B1: User Selection (Yellow) or Calculated Amount (Blue) | C1: Instructions | D1: Hints
A2: Name (First, Middle Initial, Last) | B2: Angela | C2: Take the name entered by the "user" and link to the appropriate cell on Tax Form name area (Row 5) | D2: Use the text function to add the first name and middle initial as a new text string to enter on Tax Form (First Name and Middle Initial). Do not modify the cell.
B3: Wright
B4: Brown
A5: SSN | B5: 613278193 | C5: Take the SSN entered by the user and link to the appropriate cell on Tax Form name area (Row 5) | D5: Link cells
A6: Filing Status: (S=Single, MFJ =Married Filing Jointly, MFS= Married Filing Separately, H=Head of Household, Q= Qualifying Widow) | B6: QW | C6: Based on the user selection, enter an "X" in the appropriate cell on the Tax Form Row 3 | D6: Use If functions in the respective cells on the Tax Form in Row 3.
A7: Job Earnings (up to 4 jobs) | B7: 40000 | C7: Total the amounts enterd by the user fo Job earnings and enter on Tax Form Line 1 | D7: Use the sum formula on the Tax Form Line 1 that totals cells B7:B10 on this worksheet
B8: 20000
B9: 15000
B10: 9000
A11: Standard Deduction | B11: =IF(('Tax Form'!E3)=(B6),"12000",IF(('Tax Form'!O3)=(B6),"12000",IF('Tax Form'!I3=(B6),"24000",IF(('Tax Form'!AA3)=(B6),"24000",IF('Tax Form'!U3=(B6),"18000"))))) -> 24000 | C11: Depending upon the filing status, calculate the standard deduction and enter in cell B11 of this worksheet. | D11: Use an IF function the select the correct amount of standard deduction. Look on the Tax Form for the respective amounts
A12: Itemized Deduction | B12: 7 | C12: User enters a number between 1 and 20 (in yellow). Use this number to lookup the related itemized deduction amount (in blue) | D12: Create a lookup function in the blue cell using the amount in the yellow cell and the table in the worksheet named "Itemized Deduction"
B13: =LOOKUP(B12,'Itemized Deduction'!A1:B21) -> 25654
A14: Greater of Itemized or Standard Deduction | B14: =MAX(B11,B13) -> 25654 | C14: Calculate the larger of cell B11 and B13 and enter in B14. Then link the amount in cell B14 to Tax Form Line 8 | D14: Use relationship operators (<,>,=,<=,>=) or an IF function.
A16: Adjustments to Tax Form
A17: Use addition or subtraction formulas on Tax Form when line items are added or subtracted. For example, Line 6 states "add Lines 1 though 5". Enter the correct formula on Line 6.
A18: Secure Line 1 so that the user is not able to change the contents of the cell

Sheet Taxes
A1: Single tax rate Schedule | C1: Ordinary Tax Rate
A2: Low Threshhold | B2: High Threshhold | C2: Tax Should be | D2: Of the amount over
A3: 0 | B3: =A4 -> 9525 | C3: $0 + 10% | D3: 0
A4: 9525 | B4: =A5 -> 38700 | C4: $952.50 + 12% | D4: =A4 -> 9525
A5: 38700 | B5: =A6 -> 82500 | C5: $4,453.50 + 22% | D5: =A5 -> 38700
A6: 82500 | B6: =A7 -> 157500 | C6: $14,089.50 + 24% | D6: =A6 -> 82500
A7: 157500 | B7: =A8 -> 200000 | C7: $32,089.50 + 32% | D7: =A7 -> 157500
A8: 200000 | B8: =A9 -> 500000 | C8: $45,689.50 + 35% | D8: =A8 -> 200000
A9: 500000 | B9: Unlimited | C9: $150,689.50 + 37% | D9: =A9 -> 500000
A11: Taxable Income | B11: ='Tax Form'!AB43 -> 58346
A12: Calculate the tax on the taxable income above. Use the area below to show all calculations. Enter your final calculation in the green cell.
A13: Amount over | B13: =B11-D5 -> 19646
B14: =0.22*B13 -> 4322.12
A15: Other amount | B15: 4453
A16: Total Tax | B16: =B14+B15 -> 8775.12
D25: =B16 -> 8775.12

Sheet Itemized Deduction
A1: Number | B1: Itemized Deduction
A2: 1 | B2: 29413
A3: 2 | B3: 14039
A4: 3 | B4: 17028
A5: 4 | B5: 10821
A6: 5 | B6: 16488
A7: 6 | B7: 20453
A8: 7 | B8: 25654
A9: 8 | B9: 16635
A10: 9 | B10: 20470
A11: 10 | B11: 15908
A12: 11 | B12: 15248
A13: 12 | B13: 12430
... A21: 20 | B21: 21135
